BEGIN:VCALENDAR
VERSION:2.0
PRODID:-//Truro Diocesan Guild of Ringers - ECPv6.15.20//NONSGML v1.0//EN
CALSCALE:GREGORIAN
METHOD:PUBLISH
X-WR-CALNAME:Truro Diocesan Guild of Ringers
X-ORIGINAL-URL:https://tdgr.org.uk
X-WR-CALDESC:Events for Truro Diocesan Guild of Ringers
REFRESH-INTERVAL;VALUE=DURATION:PT1H
X-Robots-Tag:noindex
X-PUBLISHED-TTL:PT1H
BEGIN:VTIMEZONE
TZID:Europe/London
BEGIN:DAYLIGHT
TZOFFSETFROM:+0000
TZOFFSETTO:+0100
TZNAME:BST
DTSTART:20250330T010000
END:DAYLIGHT
BEGIN:STANDARD
TZOFFSETFROM:+0100
TZOFFSETTO:+0000
TZNAME:GMT
DTSTART:20251026T010000
END:STANDARD
BEGIN:DAYLIGHT
TZOFFSETFROM:+0000
TZOFFSETTO:+0100
TZNAME:BST
DTSTART:20260329T010000
END:DAYLIGHT
BEGIN:STANDARD
TZOFFSETFROM:+0100
TZOFFSETTO:+0000
TZNAME:GMT
DTSTART:20261025T010000
END:STANDARD
BEGIN:DAYLIGHT
TZOFFSETFROM:+0000
TZOFFSETTO:+0100
TZNAME:BST
DTSTART:20270328T010000
END:DAYLIGHT
BEGIN:STANDARD
TZOFFSETFROM:+0100
TZOFFSETTO:+0000
TZNAME:GMT
DTSTART:20271031T010000
END:STANDARD
END:VTIMEZONE
BEGIN:VEVENT
DTSTART;TZID=Europe/London:20260425T140000
DTEND;TZID=Europe/London:20260425T160000
DTSTAMP:20260425T015659
CREATED:20260417T145512Z
LAST-MODIFIED:20260417T145512Z
UID:11280-1777125600-1777132800@tdgr.org.uk
SUMMARY:Central District Practice at St Clement on Saturday\, 25th April 2026
DESCRIPTION:St Clement (St Clement) 6 bells; 9-3-4 (497kg) in A \nCome and ring rounds\, call changes\, plain hunt and methods. \nAll welcome! \n(suggested donation £1 per ringer to the tower for hosting the event) \nAs parking is limited\, please consider car sharing where possible.
URL:https://tdgr.org.uk/event/central-district-practice-at-st-clement-on-saturday-25th-april-2026/
END:VEVENT
END:VCALENDAR